Workbook

Sheet Aankondiging
B2: Imkerend Vlaanderen
B3: VBVI vzw
B4: Eeckhout 39, 1840 Londerzeel
B5: Ond. Nr 457.125.762
B6: Registratie Nr DV02 48595
C8: AANKONDIGING KORTE VORMING
B10: Inhoud
B12: Datum
B13: Tijdstip van
B14: Tijdstip tot
B15: Onderwerp
B16: Aankondiging link
B18: Adres
B20: Naam lokatie
B21: Straat en huisnummer
B22: Postcode
B23: Gemeente
B25: Lesgever
... B34: Telefoonnummer
C42: www.vlaanderen.be/pdpo

Sheet Inhoud
B2: Imkerend Vlaanderen
B3: VBVI vzw
B4: Eeckhout 39, 1840 Londerzeel
B5: Ond. Nr 457.125.762
B6: Registratie Nr DV02 48595
B9: =Aankondiging!C12 -> 0 | F9: =Aankondiging!C23 -> 0
B11: =Aankondiging!C15 -> 0
B13: Welke inhoud wordt besproken in deze vorming ? Geef aan in telegramstijl.
B37: Leerdoelen
C40: Bedrijfsmethode
D58: www.vlaanderen.be/pdpo

Sheet A7
B2: Imkerend Vlaanderen
B3: VBVI vzw
B4: Eeckhout 39, 1840 Londerzeel
B5: Ond. Nr 457.125.762
B6: Registratie Nr DV02 48595 | K6: www.vlaanderen.be/pdpo
B9: Waarvoor dient dit formulier? Met dit formulier geeft u als lesgever aan of u een lesgeversvergoeding wenst voor de vorming. U moet dit formulier onmiddellijk na de vorming invullen en opsturen naar het centrum, ook als u geen vergoeding aanvraagt. Het vormingscentrum bezorgt een digitale kopie van dit formulier aan de afdeling Ondernemen en Ontwikkelen via het e-loket en bewaart het originele formulier.
G14: VERZOEK TOT UITBETALING LESGEVER | L14: =Aankondiging!C10 -> 0
B16: Gegevens van de aktiviteit | G16: Aantal deelnemers
B18: Onderwerp : | E18: =Aankondiging!C15 -> 0
B20: Datum : | D20: =Aankondiging!C12 -> 0 | G20: Van : | H20: =Aankondiging!C13 -> 0 | K20: Tot : | L20: =Aankondiging!C14 -> 0
B22: Lokatie : | E22: =Aankondiging!C20 -> 0 | L22: =Aankondiging!C22 -> 0
E24: =Aankondiging!C21 -> 0 | L24: =Aankondiging!C23 -> 0
B27: Gegevens van de lesgever
B29: Voor- en achternaam | F29: =Aankondiging!C27 -> 0
B31: Rijksregisternummer | F31: =Aankondiging!C28 -> 0
B33: Alleen voor buitenlandse lesgevers:
B34: Nationaliteit:
B35: Registratienummer bij Agentschap Landbouw & Visserij (ALV-nummer):
B38: Gegevens van de gevraagde vergoeding
E40: Ik wil geen vergoeding voor deze vormingsaktiviteit ontvangen
E42: Ik wil dat het vormingscentrum voor deze vorming de vergoeding doorstort op dit rekening nummer
E44: IBAN
E46: BIC
D48: Het opgegeven rekeningnummer is:
D49: ☐ Een persoonlijk rekeningnummer
D50: ☐ OF een rekeningnummer van een onderneming waar ik werknemer ben
D51: ☐ OF een rekeningnummer van een onderneming waarvan ik zaakvoerder/bestuurder ben
B53: Verklaring op erewoord door de lesgever
B55: Met dit formulier dient u als lesgever een verzoek in tot uitbetaling van de vormingsaktiviteit bij IMKEREND VLAANDEREN. U kan als lesgever dit verzoek ook elektronisch
B56: bij het Agentschap Landbouw indienen, waardoor dit formulier hiervoor niet van toepassing meer is.
B58: Ik verklaar dat alle gegevens in dit formulier naar waarheid zijn ingevuld . Ik bevestig op erewoord dat de opgave van het aantal deelnemers gerapporteerd in dit
B59: formulier oprecht en volledig is en dat de aktiviteit heeft plaatsgevonden op de wijze die in dit formulier is vermeld.
B61: DATUM
B63: HANDTEKENING

Sheet BELANGRIJK !!
B2: Waarop letten bij het indienen van een vergoedingsaanvraag
A4: 1. De aanwezigheidslijst volledig en correct invullen is zeer belangrijk. Er zijn 3 manieren om dit te doen.
B5: Onvoldoende deelnemers die gerechtigd zijn: geen uitbetaling !!!
B8: A. Manueel
C10: Gebruik de bijgevoegde aanwezigheidslijst. LEESBARE rijksregisternummers aub !!!
C11: De kolom HANDTEKENING moet een volledige handtekening hebben, niet een paraf.
C12: De kolom FAVV nummer is niet verplicht in te vullen, maar wordt gebruikt om een deelnemer te rechtvaardigen die bij landbouw niet geregistreerd is als imker.
B15: b. Scannen van via een link naar de Landbouw portal
C17: De lesgever kan de deelnemers rechtstreeks inscannen tijdens de les. Hij krijgt hiervoor een link toegestuurd.
C18: Hiervoor is internet, laptop en scanner vereist
B21: c. Scannen van de deelnemers ID cards in een excel bestand
C23: Hiervoor is internet, laptop en scanner vereist
C24: Je kan de RIJKSREGISTERNUMMERS inscannen in een excel bestand. Echter, dan moet de datum en uur van registratie erbij staan.
C25: Het excel bestand moet tevens de plaats en nummer van de opleiding vermelden.
C26: Laptop en scanner zijn vereist.
A29: 2. Degelijk ingevulde A7, tenzij de lesgever zelf zijn les ingeeft in de Landbouw portal.
C31: Ingave rekeningnummer: Gelieve achtergrond van de rekeningnummer aan te duiden.
A33: 3. Er is een deadline van 60 dagen na doorgang om aanvragen in te dienen. Dus stuur door max 1 maand na de voordracht.
A35: 4. Lesgever dient aan te geven hoeveel aanwezigen er zijn. Op de A7 en best ook onderaan de aanwezigheidslijst indien je manueel registreert (geval 1A)
A37: 5. De lesgever dient zijn eigen rekening nummer op te geven, of het rekeningnummer van zijn vennootschap. NIET het rekeningnummer van een derde.
A39: 6. Evaluatieformulieren dienen ter beschikking gesteld te worden van de deelnemers, zodat ze de vorming kunnen evaluaren. Dit kan ook via onze website (https://www.imkerendvlaanderen.be/vormingen)

Sheet Aanwezigheidslijst
B2: Imkerend Vlaanderen
B3: VBVI vzw
B4: Eeckhout 39, 1840 Londerzeel
B5: Ond. Nr 457.125.762
B6: Registratie Nr DV02 48595 | K6: www.vlaanderen.be/pdpo
B10: =Aankondiging!C12 -> 0 | C10: =Aankondiging!C10 -> 0 | L10: =Aankondiging!C23 -> 0
B12: =Aankondiging!C15 -> 0
H14: AANWEZIGHEIDSLIJST
B17: Naam - Voornaam | C17: Handtekening (Paraf is niet OK !!) | D17: Rijksregisternummer | U17: FAVV nr
B18: Organisatie of Bedrijf
B20: 1 | G20: . | J20: . | M20: - | Q20: .
B22: 2 | G22: . | J22: . | M22: - | Q22: .
B24: 3 | G24: . | J24: . | M24: - | Q24: .
B26: 4 | G26: . | J26: . | M26: - | Q26: .
B28: 5 | G28: . | J28: . | M28: - | Q28: .
B30: 6 | G30: . | J30: . | M30: - | Q30: .
B32: 7 | G32: . | J32: . | M32: - | Q32: .
B34: 8 | G34: . | J34: . | M34: - | Q34: .
B36: 9 | G36: . | J36: . | M36: - | Q36: .
B38: 10 | G38: . | J38: . | M38: - | Q38: .
B40: 11 | G40: . | J40: . | M40: - | Q40: .
B42: 12 | G42: . | J42: . | M42: - | Q42: .
... B118: 50 | G118: . | J118: . | M118: - | Q118: .
B121: Visum lesgever | C121: Tot aanwezig

Sheet Evaluatie
B2: Imkerend Vlaanderen
B3: VBVI vzw
B4: Eeckhout 39, 1840 Londerzeel
B5: Ond. Nr 457.125.762
B6: Registratie Nr DV02 48595 | K6: www.vlaanderen.be/pdpo
G10: EVALUATIEFORMULIER | L10: =Aankondiging!C10 -> 0
B12: Onderwerp : | E12: =Aankondiging!C15 -> 0
B14: Datum : | D14: 46067 | G14: Van : | H14: =Aankondiging!C13 -> 0 | K14: Tot : | L14: =Aankondiging!C14 -> 0
B16: Lokatie : | E16: =Aankondiging!C20 -> 0 | L16: =Aankondiging!C22 -> 0
E18: =Aankondiging!C21 -> 0 | L18: =Aankondiging!C23 -> 0
B21: Naam | J21: Voornaam
B24: Geef een algemene evaluatie aangaande deze vorming. Deze evaluatie
B25: dekt alle aspecten ervan (aankondiging - organisatie - lesgever - lesinhoud - omgeving)
J27: Score:(1-5)
B29: DETAILVRAGEN
B32: 1. Hoe effectief was de lesgever in het presenteren van het materiaal en het bevorderen
C33: van jouw begrip van de lesinhoud (1 tot 5)
B36: 2. Heeft de lesgever een boeiende leeromgeving gecreëerd ? Geef aub specifieke voorbeelden. | K36: Score:(1-5)
B45: 3. Andere opmerkingen lesgever gerelateerd
B55: 4. Sloot de lesinhoud aan bij je verwachtingen naar aanleiding van de aankondiging ? Leg aub uit. | K55: Score:(1-5)
B63: 5. Hoe goed sloot de lesinhoud aan op je voorkennis aangaande het onderwerp ? | K63: Score:(1-5)
B72: 6. Hoe relevant en toepasbaar vond je de lesinhoud voor praktische situaties of werkelijke toepassingen in uw situatie ?
K74: Score:(1-5)
B76: 7. Andere opmerkingen aangaande de lesinhoud
B85: 8. Heeft de fysieke lokatie (of online platform) positief bijgedragen aan jouw leerervaring ? | K85: Score:(1-5)
C86: Zo niet, welke verbeteringen zou je voorstellen ?
B96: 9. Waren er problemen te melden met de lokatie (technische, geluid, visueel) die van invloed waren op jouw vermogen om je te
C97: concentreren en deel te nemen aan de les ?
B105: 10. Hoe bevorderlijk en comfortabel vond je de algehele omgeving en leslokatie ? | K105: Score:(1-5)
B113: 11. Bijkemende opmerkingen ?
